BEGIN:VCALENDAR
VERSION:2.0
PRODID:-//BBS Connect - ECPv4.6.7//NONSGML v1.0//EN
CALSCALE:GREGORIAN
METHOD:PUBLISH
X-WR-CALNAME:BBS Connect
X-ORIGINAL-URL:https://zone.binabangsaschool.com/enews
X-WR-CALDESC:Events for BBS Connect
BEGIN:VEVENT
DTSTART;TZID=UTC+0:20171025T140000
DTEND;TZID=UTC+0:20171025T160000
DTSTAMP:20260422T180041
CREATED:20171012T180424Z
LAST-MODIFIED:20171012T180424Z
UID:2196-1508940000-1508947200@zone.binabangsaschool.com
SUMMARY:Cambridge AS Level Exam Chemistry JC2
DESCRIPTION:Session 3\n2nd Floor Chemistry & Bio Lab\nClick to rate this post!\n                                [Total: 0  Average: 0]
URL:https://zone.binabangsaschool.com/enews/event/cambridge-as-level-exam-chemistry-jc2-4/
END:VEVENT
END:VCALENDAR