BEGIN:VCALENDAR
VERSION:2.0
PRODID:-//BBS Connect - ECPv4.6.7//NONSGML v1.0//EN
CALSCALE:GREGORIAN
METHOD:PUBLISH
X-WR-CALNAME:BBS Connect
X-ORIGINAL-URL:https://zone.binabangsaschool.com/enews
X-WR-CALDESC:Events for BBS Connect
BEGIN:VEVENT
DTSTART;TZID=UTC+0:20171017T113000
DTEND;TZID=UTC+0:20171017T140000
DTSTAMP:20260422T084905
CREATED:20171003T213121Z
LAST-MODIFIED:20171012T173752Z
UID:1905-1508239800-1508248800@zone.binabangsaschool.com
SUMMARY:Cambridge AS Level Exam English JC2
DESCRIPTION:6th Floor MPH2\nClick to rate this post!\n                                [Total: 0  Average: 0]
URL:https://zone.binabangsaschool.com/enews/event/cambridge-as-level-exam-english-jc2/
END:VEVENT
END:VCALENDAR