BEGIN:VCALENDAR
VERSION:2.0
PRODID:-//BBS Connect - ECPv4.6.7//NONSGML v1.0//EN
CALSCALE:GREGORIAN
METHOD:PUBLISH
X-WR-CALNAME:BBS Connect
X-ORIGINAL-URL:https://zone.binabangsaschool.com/enews
X-WR-CALDESC:Events for BBS Connect
BEGIN:VEVENT
DTSTART;TZID=UTC+0:20171019T140000
DTEND;TZID=UTC+0:20171019T160000
DTSTAMP:20260422T161246
CREATED:20171012T174445Z
LAST-MODIFIED:20171012T174445Z
UID:2179-1508421600-1508428800@zone.binabangsaschool.com
SUMMARY:Cambridge AS Level Exam Physics JC2
DESCRIPTION:Session 3\n2nd Floor Physics & Bio Lab\nClick to rate this post!\n                                [Total: 0  Average: 0]
URL:https://zone.binabangsaschool.com/enews/event/cambridge-as-level-exam-physics-jc2-3/
END:VEVENT
END:VCALENDAR