BEGIN:VCALENDAR
VERSION:2.0
PRODID:-//BBS Connect - ECPv4.6.7//NONSGML v1.0//EN
CALSCALE:GREGORIAN
METHOD:PUBLISH
X-WR-CALNAME:BBS Connect
X-ORIGINAL-URL:https://zone.binabangsaschool.com/enews
X-WR-CALDESC:Events for BBS Connect
BEGIN:VEVENT
DTSTART;TZID=UTC+0:20171027T133000
DTEND;TZID=UTC+0:20171027T143000
DTSTAMP:20260422T140044
CREATED:20171012T180835Z
LAST-MODIFIED:20171012T180835Z
UID:2202-1509111000-1509114600@zone.binabangsaschool.com
SUMMARY:Cambridge IG Level Exam Biology JC2
DESCRIPTION:6th Floor MPH2\nClick to rate this post!\n                                [Total: 0  Average: 0]
URL:https://zone.binabangsaschool.com/enews/event/cambridge-ig-level-exam-biology-jc2-2/
END:VEVENT
END:VCALENDAR