BEGIN:VCALENDAR
VERSION:2.0
PRODID:-//BBS Connect - ECPv4.6.7//NONSGML v1.0//EN
CALSCALE:GREGORIAN
METHOD:PUBLISH
X-WR-CALNAME:BBS Connect
X-ORIGINAL-URL:https://zone.binabangsaschool.com/enews
X-WR-CALDESC:Events for BBS Connect
BEGIN:VEVENT
DTSTART;TZID=UTC+0:20171025T103000
DTEND;TZID=UTC+0:20171025T120000
DTSTAMP:20260422T221114
CREATED:20171012T175633Z
LAST-MODIFIED:20171012T175633Z
UID:2190-1508927400-1508932800@zone.binabangsaschool.com
SUMMARY:Cambridge IG Level Exam Math JC2
DESCRIPTION:6th Floor MPH2\nClick to rate this post!\n                                [Total: 0  Average: 0]
URL:https://zone.binabangsaschool.com/enews/event/cambridge-ig-level-exam-math-jc2-2/
END:VEVENT
END:VCALENDAR