BEGIN:VCALENDAR
VERSION:2.0
PRODID:-//BBS Connect - ECPv4.6.7//NONSGML v1.0//EN
CALSCALE:GREGORIAN
METHOD:PUBLISH
X-WR-CALNAME:BBS Connect
X-ORIGINAL-URL:https://zone.binabangsaschool.com/enews
X-WR-CALDESC:Events for BBS Connect
BEGIN:VEVENT
DTSTART;TZID=Asia/Jakarta:20251208T120000
DTEND;TZID=Asia/Jakarta:20251208T133000
DTSTAMP:20260422T005141
CREATED:20251023T095730Z
LAST-MODIFIED:20251110T022151Z
UID:8567-1765195200-1765200600@zone.binabangsaschool.com
SUMMARY:Christmas Celebration
DESCRIPTION:Click to rate this post!\n                                [Total: 0  Average: 0]
URL:https://zone.binabangsaschool.com/enews/event/christmas-celebration-2/
END:VEVENT
END:VCALENDAR