BEGIN:VCALENDAR
VERSION:2.0
PRODID:-//BBS Connect - ECPv4.6.7//NONSGML v1.0//EN
CALSCALE:GREGORIAN
METHOD:PUBLISH
X-WR-CALNAME:BBS Connect
X-ORIGINAL-URL:https://zone.binabangsaschool.com/enews
X-WR-CALDESC:Events for BBS Connect
BEGIN:VEVENT
DTSTART;TZID=Asia/Jakarta:20251208T133000
DTEND;TZID=Asia/Jakarta:20251208T143000
DTSTAMP:20260422T012808
CREATED:20251110T022239Z
LAST-MODIFIED:20251110T022329Z
UID:8662-1765200600-1765204200@zone.binabangsaschool.com
SUMMARY:Class Party
DESCRIPTION:Click to rate this post!\n                                [Total: 0  Average: 0]
URL:https://zone.binabangsaschool.com/enews/event/class-party/
END:VEVENT
END:VCALENDAR