BEGIN:VCALENDAR
VERSION:2.0
PRODID:-//BBS Connect - ECPv4.6.7//NONSGML v1.0//EN
CALSCALE:GREGORIAN
METHOD:PUBLISH
X-WR-CALNAME:BBS Connect
X-ORIGINAL-URL:https://zone.binabangsaschool.com/enews
X-WR-CALDESC:Events for BBS Connect
BEGIN:VEVENT
DTSTART;VALUE=DATE:20251203
DTEND;VALUE=DATE:20251206
DTSTAMP:20260422T005501
CREATED:20251023T092938Z
LAST-MODIFIED:20251024T005155Z
UID:8543-1764720000-1764979199@zone.binabangsaschool.com
SUMMARY:Learning Journey Secondary 1 - Secondary 2
DESCRIPTION:Click to rate this post!\n                                [Total: 0  Average: 0]
URL:https://zone.binabangsaschool.com/enews/event/learning-journey-sec-1-sec-2-to-yogyakarta/
END:VEVENT
END:VCALENDAR