BEGIN:VCALENDAR
VERSION:2.0
PRODID:-//BBS Connect - ECPv4.6.7//NONSGML v1.0//EN
CALSCALE:GREGORIAN
METHOD:PUBLISH
X-WR-CALNAME:BBS Connect
X-ORIGINAL-URL:https://zone.binabangsaschool.com/enews
X-WR-CALDESC:Events for BBS Connect
BEGIN:VEVENT
DTSTART;VALUE=DATE:20251124
DTEND;VALUE=DATE:20251206
DTSTAMP:20260421T232417
CREATED:20251023T095452Z
LAST-MODIFIED:20251023T095452Z
UID:8561-1763942400-1764979199@zone.binabangsaschool.com
SUMMARY:Mid-Year Examination
DESCRIPTION:Click to rate this post!\n                                [Total: 0  Average: 0]
URL:https://zone.binabangsaschool.com/enews/event/mid-year-examination/
END:VEVENT
END:VCALENDAR