BEGIN:VCALENDAR
VERSION:2.0
PRODID:-//BBS Connect - ECPv4.6.7//NONSGML v1.0//EN
CALSCALE:GREGORIAN
METHOD:PUBLISH
X-WR-CALNAME:BBS Connect
X-ORIGINAL-URL:https://zone.binabangsaschool.com/enews
X-WR-CALDESC:Events for BBS Connect
BEGIN:VEVENT
DTSTART;VALUE=DATE:20251210
DTEND;VALUE=DATE:20251212
DTSTAMP:20260422T013234
CREATED:20251110T022404Z
LAST-MODIFIED:20251110T022404Z
UID:8664-1765324800-1765497599@zone.binabangsaschool.com
SUMMARY:No School Day
DESCRIPTION:Click to rate this post!\n                                [Total: 0  Average: 0]
URL:https://zone.binabangsaschool.com/enews/event/no-school-day/
END:VEVENT
END:VCALENDAR