BEGIN:VCALENDAR
VERSION:2.0
PRODID:-//BBS Connect - ECPv4.6.7//NONSGML v1.0//EN
CALSCALE:GREGORIAN
METHOD:PUBLISH
X-WR-CALNAME:BBS Connect
X-ORIGINAL-URL:https://zone.binabangsaschool.com/enews
X-WR-CALDESC:Events for BBS Connect
BEGIN:VEVENT
DTSTART;VALUE=DATE:20170922
DTEND;VALUE=DATE:20170923
DTSTAMP:20260422T010529
CREATED:20170830T183854Z
LAST-MODIFIED:20170830T183854Z
UID:1287-1506038400-1506124799@zone.binabangsaschool.com
SUMMARY:Parents Child Teachers Conference (PCTC)
DESCRIPTION:Click to rate this post!\n                                [Total: 0  Average: 0]
URL:https://zone.binabangsaschool.com/enews/event/parents-child-teachers-conference-pctc/
END:VEVENT
END:VCALENDAR