BEGIN:VCALENDAR
VERSION:2.0
PRODID:-//BBS Connect - ECPv4.6.7//NONSGML v1.0//EN
CALSCALE:GREGORIAN
METHOD:PUBLISH
X-WR-CALNAME:BBS Connect
X-ORIGINAL-URL:https://zone.binabangsaschool.com/enews
X-WR-CALDESC:Events for BBS Connect
BEGIN:VEVENT
DTSTART;VALUE=DATE:20251215
DTEND;VALUE=DATE:20260105
DTSTAMP:20260422T014004
CREATED:20251023T100313Z
LAST-MODIFIED:20251023T100313Z
UID:8574-1765756800-1767571199@zone.binabangsaschool.com
SUMMARY:Semester 1 Break
DESCRIPTION:Click to rate this post!\n                                [Total: 0  Average: 0]
URL:https://zone.binabangsaschool.com/enews/event/semester-1-break/
END:VEVENT
END:VCALENDAR