BEGIN:VCALENDAR
VERSION:2.0
PRODID:-//BBS Connect - ECPv4.6.7//NONSGML v1.0//EN
CALSCALE:GREGORIAN
METHOD:PUBLISH
X-WR-CALNAME:BBS Connect
X-ORIGINAL-URL:https://zone.binabangsaschool.com/enews
X-WR-CALDESC:Events for BBS Connect
BEGIN:VEVENT
DTSTART;VALUE=DATE:20260206
DTEND;VALUE=DATE:20260207
DTSTAMP:20260421T222701
CREATED:20251023T101812Z
LAST-MODIFIED:20251023T101812Z
UID:8596-1770336000-1770422399@zone.binabangsaschool.com
SUMMARY:Teachers’ Day Holiday and Outing
DESCRIPTION:Click to rate this post!\n                                [Total: 0  Average: 0]
URL:https://zone.binabangsaschool.com/enews/event/teachers-day-holiday-and-outing/
END:VEVENT
END:VCALENDAR