BEGIN:VCALENDAR
VERSION:2.0
PRODID:-//BBS Connect - ECPv4.6.7//NONSGML v1.0//EN
CALSCALE:GREGORIAN
METHOD:PUBLISH
X-WR-CALNAME:BBS Connect
X-ORIGINAL-URL:https://zone.binabangsaschool.com/enews
X-WR-CALDESC:Events for BBS Connect
BEGIN:VEVENT
DTSTART;VALUE=DATE:20260307
DTEND;VALUE=DATE:20260308
DTSTAMP:20260421T203118
CREATED:20251023T102507Z
LAST-MODIFIED:20251024T003814Z
UID:8610-1772841600-1772927999@zone.binabangsaschool.com
SUMMARY:BBS 25th Anniversary - 16th Annual Music Concert
DESCRIPTION:Click to rate this post!\n                                [Total: 0  Average: 0]
URL:https://zone.binabangsaschool.com/enews/event/bbs-25th-anniversary-2025-2026/
END:VEVENT
END:VCALENDAR